BEGIN:VCALENDAR
VERSION:2.0
PRODID:-//St. Julia Catholic Church | Siler City, NC - ECPv6.15.20//NONSGML v1.0//EN
CALSCALE:GREGORIAN
METHOD:PUBLISH
X-WR-CALNAME:St. Julia Catholic Church | Siler City, NC
X-ORIGINAL-URL:https://stjuliasilercity.org/es/
X-WR-CALDESC:Eventos para St. Julia Catholic Church | Siler City, NC
REFRESH-INTERVAL;VALUE=DURATION:PT1H
X-Robots-Tag:noindex
X-PUBLISHED-TTL:PT1H
BEGIN:VTIMEZONE
TZID:America/New_York
BEGIN:DAYLIGHT
TZOFFSETFROM:-0500
TZOFFSETTO:-0400
TZNAME:EDT
DTSTART:20250309T070000
END:DAYLIGHT
BEGIN:STANDARD
TZOFFSETFROM:-0400
TZOFFSETTO:-0500
TZNAME:EST
DTSTART:20251102T060000
END:STANDARD
BEGIN:DAYLIGHT
TZOFFSETFROM:-0500
TZOFFSETTO:-0400
TZNAME:EDT
DTSTART:20260308T070000
END:DAYLIGHT
BEGIN:STANDARD
TZOFFSETFROM:-0400
TZOFFSETTO:-0500
TZNAME:EST
DTSTART:20261101T060000
END:STANDARD
BEGIN:DAYLIGHT
TZOFFSETFROM:-0500
TZOFFSETTO:-0400
TZNAME:EDT
DTSTART:20270314T070000
END:DAYLIGHT
BEGIN:STANDARD
TZOFFSETFROM:-0400
TZOFFSETTO:-0500
TZNAME:EST
DTSTART:20271107T060000
END:STANDARD
END:VTIMEZONE
BEGIN:VEVENT
DTSTART;TZID=America/New_York:20260420T170000
DTEND;TZID=America/New_York:20260420T183000
DTSTAMP:20260420T060530
CREATED:20250626T174140Z
LAST-MODIFIED:20260414T175137Z
UID:10045-1776704400-1776709800@stjuliasilercity.org
SUMMARY:Vox Music Ministries Rehearsal / Ensayo del Ministerio de Música Vox
DESCRIPTION:Vox Music Ministry meets every Monday at 5:00PM\nto rehearse for this month’s Mass.\nVox Music Ministry serves on the third Sunday of each month at the 10:00AM Mass.\nFor information on the choir\, or how to join CLICK HERE!\n\nEl Ministerio de Música Vox se reúne todos los lunes a las 5:00 p.m.\n para ensayar la misa de este mes.\nEl Ministerio de Música Vox sirve el tercer domingo de cada mes en la misa de las 10:00 a. m.\nPara obtener información sobre el coro o cómo unirse\, ¡haga clic aquí!\n 
URL:https://stjuliasilercity.org/es/event/vox-music-ministries-rehearsal-ensayo-del-ministerio-de-musica-vox/
LOCATION:Saint Julias\, 210 Harold Hart Rd\, Siler City\, NC\, 27344\, United States
CATEGORIES:Upcoming
END:VEVENT
BEGIN:VEVENT
DTSTART;TZID=America/New_York:20260420T180000
DTEND;TZID=America/New_York:20260420T193000
DTSTAMP:20260420T060530
CREATED:20240830T162132Z
LAST-MODIFIED:20260414T175153Z
UID:7118-1776708000-1776713400@stjuliasilercity.org
SUMMARY:Faith Formation OCIA Confirmation Youth / Formación de fe RICA Confirmación jóvenes:
DESCRIPTION:English & Spanish Time: 6:00pm in the classrooms and parish hall \nInglés y Español Hora: 6:00pm en los salones y salón parroquial
URL:https://stjuliasilercity.org/es/event/faith-formation-rcia-confirmation-youth-formacion-de-fe-rica-confirmacion-jovenes/
LOCATION:Saint Julias\, 210 Harold Hart Rd\, Siler City\, NC\, 27344\, United States
CATEGORIES:Faith Formation
ATTACH;FMTTYPE=image/png:https://stjuliasilercity.org/wp-content/uploads/2024/08/Bible-e1756907263409.png
END:VEVENT
BEGIN:VEVENT
DTSTART;TZID=America/New_York:20260420T183000
DTEND;TZID=America/New_York:20260420T194500
DTSTAMP:20260420T060530
CREATED:20250626T172641Z
LAST-MODIFIED:20260414T175203Z
UID:10042-1776709800-1776714300@stjuliasilercity.org
SUMMARY:St Julias Childrens Choir / Coro de niños de Santa Julia
DESCRIPTION:The Children’s Choir meets every Monday at 6:30PM\nto rehearse for this month’s Mass.\nThe children serve on the LAST Sunday of each month (alternating) at the 10:00AM and 12:00PM Masses.\nFor information on the choir\, or how to join CLICK HERE!\n\nEl Coro de los niños se reúne todos los lunes a las 6:30 p.m.\n para ensayar la misa de este mes.\nLos niños sirven el último domingo de cada mes (alternativamente) en las misas de las 10:00 a. m. y las 12:00 p. m.\nPara obtener información sobre el coro o cómo unirse\, ¡haga clic aquí!
URL:https://stjuliasilercity.org/es/event/st-julias-childrens-choir-coro-de-ninos-de-santa-julia/
LOCATION:Saint Julias\, 210 Harold Hart Rd\, Siler City\, NC\, 27344\, United States
CATEGORIES:Upcoming
END:VEVENT
BEGIN:VEVENT
DTSTART;TZID=America/New_York:20260420T190000
DTEND;TZID=America/New_York:20260420T200000
DTSTAMP:20260420T060530
CREATED:20240925T144938Z
LAST-MODIFIED:20260414T175214Z
UID:7391-1776711600-1776715200@stjuliasilercity.org
SUMMARY:Apostolate of Divine Mercy /Apostolado de la Divina Misericordia
DESCRIPTION:Apostolate of Divine Mercy /Apostolado de la Divina Misericordia\n\n\n\n\nMonday/ Lunes\n7:00pm-8:00pm\nin Narthex / en Nárthex\nRicarda Herrera
URL:https://stjuliasilercity.org/es/event/apostolate-of-divine-mercy-apostolado-de-la-divina-misericordia/
LOCATION:Saint Julias\, 210 Harold Hart Rd\, Siler City\, NC\, 27344\, United States
CATEGORIES:Upcoming
END:VEVENT
END:VCALENDAR