BEGIN:VCALENDAR
VERSION:2.0
PRODID:-//St. Julia Catholic Church | Siler City, NC - ECPv6.15.20//NONSGML v1.0//EN
CALSCALE:GREGORIAN
METHOD:PUBLISH
X-WR-CALNAME:St. Julia Catholic Church | Siler City, NC
X-ORIGINAL-URL:https://stjuliasilercity.org/en/
X-WR-CALDESC:Events for St. Julia Catholic Church | Siler City, NC
REFRESH-INTERVAL;VALUE=DURATION:PT1H
X-Robots-Tag:noindex
X-PUBLISHED-TTL:PT1H
BEGIN:VTIMEZONE
TZID:America/New_York
BEGIN:DAYLIGHT
TZOFFSETFROM:-0500
TZOFFSETTO:-0400
TZNAME:EDT
DTSTART:20250309T070000
END:DAYLIGHT
BEGIN:STANDARD
TZOFFSETFROM:-0400
TZOFFSETTO:-0500
TZNAME:EST
DTSTART:20251102T060000
END:STANDARD
BEGIN:DAYLIGHT
TZOFFSETFROM:-0500
TZOFFSETTO:-0400
TZNAME:EDT
DTSTART:20260308T070000
END:DAYLIGHT
BEGIN:STANDARD
TZOFFSETFROM:-0400
TZOFFSETTO:-0500
TZNAME:EST
DTSTART:20261101T060000
END:STANDARD
BEGIN:DAYLIGHT
TZOFFSETFROM:-0500
TZOFFSETTO:-0400
TZNAME:EDT
DTSTART:20270314T070000
END:DAYLIGHT
BEGIN:STANDARD
TZOFFSETFROM:-0400
TZOFFSETTO:-0500
TZNAME:EST
DTSTART:20271107T060000
END:STANDARD
END:VTIMEZONE
BEGIN:VEVENT
DTSTART;VALUE=DATE:20261031
DTEND;VALUE=DATE:20261102
DTSTAMP:20260420T174113
CREATED:20251024T170037Z
LAST-MODIFIED:20260107T153328Z
UID:11330-1793404800-1793577599@stjuliasilercity.org
SUMMARY:Time Change Cambio de hora
DESCRIPTION:Be sure to change your clocks back! Enjoy the extra hour of sleep!\n¡Asegúrate de atrasar tu reloj! ¡Disfruta de esa hora extra de sueño!
URL:https://stjuliasilercity.org/en/event/time-change-cambio-de-hora/
LOCATION:Saint Julias\, 210 Harold Hart Rd\, Siler City\, NC\, 27344\, United States
CATEGORIES:Upcoming
END:VEVENT
END:VCALENDAR