BEGIN:VCALENDAR
VERSION:2.0
PRODID:-//St. Julia Catholic Church | Siler City, NC - ECPv6.15.20//NONSGML v1.0//EN
CALSCALE:GREGORIAN
METHOD:PUBLISH
X-ORIGINAL-URL:https://stjuliasilercity.org/en/
X-WR-CALDESC:Events for St. Julia Catholic Church | Siler City, NC
REFRESH-INTERVAL;VALUE=DURATION:PT1H
X-Robots-Tag:noindex
X-PUBLISHED-TTL:PT1H
BEGIN:VTIMEZONE
TZID:America/New_York
BEGIN:DAYLIGHT
TZOFFSETFROM:-0500
TZOFFSETTO:-0400
TZNAME:EDT
DTSTART:20250309T070000
END:DAYLIGHT
BEGIN:STANDARD
TZOFFSETFROM:-0400
TZOFFSETTO:-0500
TZNAME:EST
DTSTART:20251102T060000
END:STANDARD
BEGIN:DAYLIGHT
TZOFFSETFROM:-0500
TZOFFSETTO:-0400
TZNAME:EDT
DTSTART:20260308T070000
END:DAYLIGHT
BEGIN:STANDARD
TZOFFSETFROM:-0400
TZOFFSETTO:-0500
TZNAME:EST
DTSTART:20261101T060000
END:STANDARD
BEGIN:DAYLIGHT
TZOFFSETFROM:-0500
TZOFFSETTO:-0400
TZNAME:EDT
DTSTART:20270314T070000
END:DAYLIGHT
BEGIN:STANDARD
TZOFFSETFROM:-0400
TZOFFSETTO:-0500
TZNAME:EST
DTSTART:20271107T060000
END:STANDARD
END:VTIMEZONE
BEGIN:VEVENT
DTSTART;TZID=America/New_York:20260501T083000
DTEND;TZID=America/New_York:20260501T100000
DTSTAMP:20260420T061322
CREATED:20240906T144550Z
LAST-MODIFIED:20260306T204640Z
UID:7160-1777624200-1777629600@stjuliasilercity.org
SUMMARY:First Friday Holy Hour/ Hora Santa del primer viernes
DESCRIPTION:Bilingual Mass followed by Holy Hour\nCLICK HERE to view our Schedule\nMisa Bilingüe seguida de Hora Santa\nHAGA CLIC AQUÍ para ver nuestro horario
URL:https://stjuliasilercity.org/en/event/first-friday-holy-hour-hora/
LOCATION:Saint Julias\, 210 Harold Hart Rd\, Siler City\, NC\, 27344\, United States
CATEGORIES:Adoration,Mass
END:VEVENT
BEGIN:VEVENT
DTSTART;TZID=America/New_York:20260501T190000
DTEND;TZID=America/New_York:20260501T210000
DTSTAMP:20260420T061322
CREATED:20240830T155406Z
LAST-MODIFIED:20260303T195713Z
UID:7109-1777662000-1777669200@stjuliasilercity.org
SUMMARY:Healing Service / Servicio de Sanación
DESCRIPTION:Every First Friday at 7:00- 9:00PM (in Spanish) \nCada primer viernes 7:00 a 9:00 (en español)
URL:https://stjuliasilercity.org/en/event/healing-service-servicio-de-sanacion/
LOCATION:Saint Julias\, 210 Harold Hart Rd\, Siler City\, NC\, 27344\, United States
CATEGORIES:Adoration
ATTACH;FMTTYPE=image/png:https://stjuliasilercity.org/wp-content/uploads/2024/08/adoration-e1756908294916.png
END:VEVENT
BEGIN:VEVENT
DTSTART;TZID=America/New_York:20260506T180000
DTEND;TZID=America/New_York:20260506T203000
DTSTAMP:20260420T061322
CREATED:20240920T154313Z
LAST-MODIFIED:20260409T173121Z
UID:7371-1778090400-1778099400@stjuliasilercity.org
SUMMARY:Clases gratís de labor y parto para parejas y personas de apoyo / Free labor and delivery classes for couples and support people
DESCRIPTION:🤰 Free Bilingual Childbirth Classes! / Clases bilingües gratuitas de labor y parto 🤰\n  \n\n\n May 6 / 6 de mayo\nMay 13/ 13 de mayo\nMay 20/ 20 de mayo\nClass # 4:  Tour of Hospital / Tour en Hospital\n\n6:00pm a 8:30pm\nin the Parish Classrooms / en los Salones Educativos\nLearn about/Aprendan sobre: \n\nHealthy Pregnancy/Embarazo saludabe\nPain relief techniques/Técnicas para alivar el dolor\nBreast feeding & Newborn care/Latancia Materina y cuidado del bebe\n\nHave questions? ¿Tiene preguntas?\nCall Omayra Pumalpa/Llame a Omayra Pumalpa\n303-946-2030\nAll are welcome to come! / ¡Todos son bienvenidos!\n 
URL:https://stjuliasilercity.org/en/event/free-labor-and-delivery/
LOCATION:Saint Julias\, 210 Harold Hart Rd\, Siler City\, NC\, 27344\, United States
CATEGORIES:Upcoming
ATTACH;FMTTYPE=image/png:https://stjuliasilercity.org/wp-content/uploads/2024/09/Free-Bilingual-Childbirth-Classes-1.png
END:VEVENT
BEGIN:VEVENT
DTSTART;TZID=America/New_York:20260508T190000
DTEND;TZID=America/New_York:20260508T210000
DTSTAMP:20260420T061322
CREATED:20250107T173527Z
LAST-MODIFIED:20260218T154014Z
UID:8074-1778266800-1778274000@stjuliasilercity.org
SUMMARY:Silent Contemplative Prayer / Oración contemplativa silenciosa
DESCRIPTION:Every second Friday of the month:\nContemplative Prayer in silence: begins at 7:00PM \nCada segundo viernes del mes:\nOración contemplativa en silencio: comienza a las 7:00 \n 
URL:https://stjuliasilercity.org/en/event/silent-contemplative-prayer-oracion-contemplativa-silenciosa/
LOCATION:Saint Julias\, 210 Harold Hart Rd\, Siler City\, NC\, 27344\, United States
CATEGORIES:Special Service
ATTACH;FMTTYPE=image/png:https://stjuliasilercity.org/wp-content/uploads/2024/08/reconciliation-2-e1756848079910.png
END:VEVENT
BEGIN:VEVENT
DTSTART;TZID=America/New_York:20260524T080000
DTEND;TZID=America/New_York:20260618T130000
DTSTAMP:20260420T061322
CREATED:20260410T153343Z
LAST-MODIFIED:20260410T164740Z
UID:12378-1779609600-1781787600@stjuliasilercity.org
SUMMARY:First Communion Primera Comunión
DESCRIPTION:Sacrament of Initiation/ Sacramento de Iniciación\nFirst Communion / Primera Comunión \nWe are joyful to celebrate these sacred milestones with our parish family! Please save the following dates for our upcoming celebrations: \n¡Nos llena de alegría celebrar estos sagrados momentos con nuestra comunidad parroquial! Por favor\, anoten las siguientes fechas para nuestras próximas celebraciones: \n🍞🍷First Holy Communion🍞🍷Primera Comunión🍞🍷\nDate/Fecha: Sunday\, May 24th/ Domingo\, 24 de mayo\nTimes/Horarios:\n8:00 AM Mass / 8:00 AM Misa en español\n10:00 AM Mass / 10:00 AM Misa en inglés\n12:00 PM Mass / 12:00 PM Misa en español\nRehearsal/Práctica:\n🕊️April 18th: 9:00AM\n🕊️18 de abril: 9:00 \nNote for Parents: Please arrive at least 30 minutes prior to the start of the liturgy. We look forward to celebrating these beautiful sacraments with our youth! \nNota para los padres: Les pedimos que lleguen al menos 30 minutos antes del inicio de la liturgia. ¡Esperamos con ilusión celebrar estos hermosos sacramentos con nuestros jóvenes!
URL:https://stjuliasilercity.org/en/event/sacrament-of-initiation-communion/
LOCATION:Saint Julias\, 210 Harold Hart Rd\, Siler City\, NC\, 27344\, United States
CATEGORIES:First Communion,Special Service
END:VEVENT
END:VCALENDAR