BEGIN:VCALENDAR
VERSION:2.0
PRODID:-//St. Julia Catholic Church | Siler City, NC - ECPv6.15.20//NONSGML v1.0//EN
CALSCALE:GREGORIAN
METHOD:PUBLISH
X-ORIGINAL-URL:https://stjuliasilercity.org/en/
X-WR-CALDESC:Events for St. Julia Catholic Church | Siler City, NC
REFRESH-INTERVAL;VALUE=DURATION:PT1H
X-Robots-Tag:noindex
X-PUBLISHED-TTL:PT1H
BEGIN:VTIMEZONE
TZID:America/New_York
BEGIN:DAYLIGHT
TZOFFSETFROM:-0500
TZOFFSETTO:-0400
TZNAME:EDT
DTSTART:20250309T070000
END:DAYLIGHT
BEGIN:STANDARD
TZOFFSETFROM:-0400
TZOFFSETTO:-0500
TZNAME:EST
DTSTART:20251102T060000
END:STANDARD
BEGIN:DAYLIGHT
TZOFFSETFROM:-0500
TZOFFSETTO:-0400
TZNAME:EDT
DTSTART:20260308T070000
END:DAYLIGHT
BEGIN:STANDARD
TZOFFSETFROM:-0400
TZOFFSETTO:-0500
TZNAME:EST
DTSTART:20261101T060000
END:STANDARD
BEGIN:DAYLIGHT
TZOFFSETFROM:-0500
TZOFFSETTO:-0400
TZNAME:EDT
DTSTART:20270314T070000
END:DAYLIGHT
BEGIN:STANDARD
TZOFFSETFROM:-0400
TZOFFSETTO:-0500
TZNAME:EST
DTSTART:20271107T060000
END:STANDARD
END:VTIMEZONE
BEGIN:VEVENT
DTSTART;TZID=America/New_York:20260227T173000
DTEND;TZID=America/New_York:20260227T183000
DTSTAMP:20260420T044825
CREATED:20260212T185836Z
LAST-MODIFIED:20260326T152225Z
UID:12045-1772213400-1772217000@stjuliasilercity.org
SUMMARY:Lenten Simple Supper / Cena sencilla de Cuaresma
DESCRIPTION:🥣 A Simple Supper: Food\, Faith\, and Fellowship 🌿\n🥣 Una Cena Sencilla: Comida\, Fe y Compañerismo 🌿\n✝️After we walk the Way of the Cross together\, we invite you to stay for a moment of community and quiet reflection.\n✝️Después de recorrer juntos el Vía Crucis\, te invitamos a quedarte un momento de comunidad y reflexión tranquila. \n🥖Join us on Friday\, February 27th\, immediately following the 5:00 PM Stations of the Cross for our Lenten Simple Supper.\nThis “meatless” potluck is a beautiful opportunity to share a modest meal and connect with your parish family during this holy season. \n🥖Acompáñenos el viernes 27 de febrero\, inmediatamente después del Vía Crucis de las 5:00 h\, para nuestra Cena Sencilla de Cuaresma.\nEsta comida compartida sin carne es una hermosa oportunidad para compartir una comida sencilla y conectar con la familia de su parroquia durante esta época santa. \n\nWhen/ Cuándo: Friday\, February 27th (approx. 5:30PM\, following Stations of the Cross) / Viernes 27 de febrero (aprox. 17:30 h\, después del Vía Crucis)\nWhere: Parish Hall / Salón Parroquial\nWhat to Bring: A simple meatless dish to share. / Un plato sencillo sin carne para compartir.\n\n🕊️In the spirit of Lent\, we gather not for a feast\, but for the nourishment of our bodies and our bonds with one another.\nBring a dish or just bring yourself.  All are welcome! There is a place at the table for you. \n🕊️En el espíritu de la Cuaresma\, nos reunimos no para una fiesta\, sino para nutrir nuestros cuerpos y nuestros vínculos entre nosotros\nTrae un plato o simplemente ven tú mismo. ¡Bienvenidos todos!  Hay un lugar en la mesa para ti. \n“For where two or three are gathered in my name\, there am I among them.” — Matthew 18:20 /\n“Porque donde dos o tres están reunidos en mi nombre\, allí estoy yo en medio de ellos.” — Mateo 18:20 \n#Lent2026 #SimpleSupper #StationsOfTheCross #ParishLife #Fellowship #StJuliaSilerCity
URL:https://stjuliasilercity.org/en/event/lenten-simple-supper/
LOCATION:Saint Julias\, 210 Harold Hart Rd\, Siler City\, NC\, 27344\, United States
CATEGORIES:Upcoming
ATTACH;FMTTYPE=image/jpeg:https://stjuliasilercity.org/wp-content/uploads/2026/02/Breads2.jpg
END:VEVENT
END:VCALENDAR