BEGIN:VCALENDAR
VERSION:2.0
PRODID:-//St. Julia Catholic Church | Siler City, NC - ECPv6.15.20//NONSGML v1.0//EN
CALSCALE:GREGORIAN
METHOD:PUBLISH
X-WR-CALNAME:St. Julia Catholic Church | Siler City, NC
X-ORIGINAL-URL:https://stjuliasilercity.org/en/
X-WR-CALDESC:Events for St. Julia Catholic Church | Siler City, NC
REFRESH-INTERVAL;VALUE=DURATION:PT1H
X-Robots-Tag:noindex
X-PUBLISHED-TTL:PT1H
BEGIN:VTIMEZONE
TZID:America/New_York
BEGIN:DAYLIGHT
TZOFFSETFROM:-0500
TZOFFSETTO:-0400
TZNAME:EDT
DTSTART:20240310T070000
END:DAYLIGHT
BEGIN:STANDARD
TZOFFSETFROM:-0400
TZOFFSETTO:-0500
TZNAME:EST
DTSTART:20241103T060000
END:STANDARD
BEGIN:DAYLIGHT
TZOFFSETFROM:-0500
TZOFFSETTO:-0400
TZNAME:EDT
DTSTART:20250309T070000
END:DAYLIGHT
BEGIN:STANDARD
TZOFFSETFROM:-0400
TZOFFSETTO:-0500
TZNAME:EST
DTSTART:20251102T060000
END:STANDARD
BEGIN:DAYLIGHT
TZOFFSETFROM:-0500
TZOFFSETTO:-0400
TZNAME:EDT
DTSTART:20260308T070000
END:DAYLIGHT
BEGIN:STANDARD
TZOFFSETFROM:-0400
TZOFFSETTO:-0500
TZNAME:EST
DTSTART:20261101T060000
END:STANDARD
END:VTIMEZONE
BEGIN:VEVENT
DTSTART;TZID=America/New_York:20251018T090000
DTEND;TZID=America/New_York:20251018T120000
DTSTAMP:20260422T092446
CREATED:20250919T152350Z
LAST-MODIFIED:20250919T153653Z
UID:11014-1760778000-1760788800@stjuliasilercity.org
SUMMARY:Safe Environment Training /  Entrenamiento de Ambiente Seguro
DESCRIPTION:Safe Environment Training / Entrenamiento de Ambiente Seguro\n  \nFor all the new servers in our parish and those who need their 5 year renewal.\nDate: Saturday\, October 18th\nTime: 9:00am in English\nPlace: Parish Hall \nQuestions contact the church office\, or Deacon Ramon Ferrer \nPara todos los nuevos servidores dentro de la parroquia o aquellos que necesiten su renovación de 5 años.\nFecha: Sábado 18 de octubre\nHora: 1:00pm en español\nLugar: Salón Parroquial \nSi tiene preguntas\, comuníquese con la oficina de la iglesia o con el diácono Ramón Ferrer.
URL:https://stjuliasilercity.org/en/event/safe-environment-training/
LOCATION:Saint Julias\, 210 Harold Hart Rd\, Siler City\, NC\, 27344\, United States
CATEGORIES:Upcoming
END:VEVENT
BEGIN:VEVENT
DTSTART;TZID=America/New_York:20251026T160000
DTEND;TZID=America/New_York:20251026T170000
DTSTAMP:20260422T092446
CREATED:20251010T200826Z
LAST-MODIFIED:20251010T200826Z
UID:11188-1761494400-1761498000@stjuliasilercity.org
SUMMARY:Saints and Heroes- Trunk or Treat
DESCRIPTION:Calling all Saints and Heroes! / ¡Llamando a todos los santos y héroes!\n\nCelebrate the up-coming celebration of All Saints Day\n-Come dressed as a Saint or your favorite Super Hero. \n-Bring a treat bag and receive candy\, snacks and other goodies!  \n-Hot chocolate and doughnuts\nFree event for all Children of the Parish\n  \nCelebra el próximo Día de Todos los Santos.\n-Ven disfrazado de santo o de tu superhéroe favorito.\n-¡Trae una bolsa de dulces y recibe dulces\, bocadillos y otras delicias!\n-Chocolate caliente y donas.\nEvento gratuito para todos los niños de la parroquia.
URL:https://stjuliasilercity.org/en/event/saints-and-heroes-trunk-or-treat/
LOCATION:Saint Julias\, 210 Harold Hart Rd\, Siler City\, NC\, 27344\, United States
CATEGORIES:Upcoming
END:VEVENT
END:VCALENDAR