BEGIN:VCALENDAR
VERSION:2.0
PRODID:-//St. Julia Catholic Church | Siler City, NC - ECPv6.15.20//NONSGML v1.0//EN
CALSCALE:GREGORIAN
METHOD:PUBLISH
X-ORIGINAL-URL:https://stjuliasilercity.org/en/
X-WR-CALDESC:Events for St. Julia Catholic Church | Siler City, NC
REFRESH-INTERVAL;VALUE=DURATION:PT1H
X-Robots-Tag:noindex
X-PUBLISHED-TTL:PT1H
BEGIN:VTIMEZONE
TZID:America/New_York
BEGIN:DAYLIGHT
TZOFFSETFROM:-0500
TZOFFSETTO:-0400
TZNAME:EDT
DTSTART:20240310T070000
END:DAYLIGHT
BEGIN:STANDARD
TZOFFSETFROM:-0400
TZOFFSETTO:-0500
TZNAME:EST
DTSTART:20241103T060000
END:STANDARD
BEGIN:DAYLIGHT
TZOFFSETFROM:-0500
TZOFFSETTO:-0400
TZNAME:EDT
DTSTART:20250309T070000
END:DAYLIGHT
BEGIN:STANDARD
TZOFFSETFROM:-0400
TZOFFSETTO:-0500
TZNAME:EST
DTSTART:20251102T060000
END:STANDARD
BEGIN:DAYLIGHT
TZOFFSETFROM:-0500
TZOFFSETTO:-0400
TZNAME:EDT
DTSTART:20260308T070000
END:DAYLIGHT
BEGIN:STANDARD
TZOFFSETFROM:-0400
TZOFFSETTO:-0500
TZNAME:EST
DTSTART:20261101T060000
END:STANDARD
END:VTIMEZONE
BEGIN:VEVENT
DTSTART;TZID=America/New_York:20250802T180000
DTEND;TZID=America/New_York:20250802T210000
DTSTAMP:20260422T122221
CREATED:20250701T155711Z
LAST-MODIFIED:20250801T193509Z
UID:10094-1754157600-1754168400@stjuliasilercity.org
SUMMARY:A Night Out  Una Tardeada
DESCRIPTION: A Night Out at Saint Julia’s  •  Una Tardeada en Santa Julia\nSaturday\, August 2\, 6pm  •  Sábado 2 de agosto\, 6pm\nFood / Fun / Games / Music / Karaoke  /  Demonstrations / Ballet Folklorico Mexican Tradition of Julio Ruiz\nComida / Diversión / Juegos / Música / Karaoke / Demostraciónes / Ballet Folklórico Tradición Mexicana de Julio Ruiz\n\n    .\nLa misa se llevará a cabo en los horarios habituales:   5:00 p. m. en inglés   7:00 p. m. en español\nMass will go on at the regular scheduled times:  5:00pm English   7:00pm Spanish \n  \nAll Are Welcome!    Todos son bienvenidos!\n  \nCLICK TO VIEW MENU / HAGA CLIC PARA VER EL MENÚ \n \n 
URL:https://stjuliasilercity.org/en/event/a-night-out-una-tardeada/
LOCATION:Saint Julias\, 210 Harold Hart Rd\, Siler City\, NC\, 27344\, United States
CATEGORIES:Upcoming
END:VEVENT
END:VCALENDAR